BEGIN:VCALENDAR
VERSION:2.0
PRODID:-//Stadtmusik Engen - ECPv6.15.18//NONSGML v1.0//EN
CALSCALE:GREGORIAN
METHOD:PUBLISH
X-ORIGINAL-URL:https://stadtmusik-engen.de
X-WR-CALDESC:Veranstaltungen für Stadtmusik Engen
REFRESH-INTERVAL;VALUE=DURATION:PT1H
X-Robots-Tag:noindex
X-PUBLISHED-TTL:PT1H
BEGIN:VTIMEZONE
TZID:UTC
BEGIN:STANDARD
TZOFFSETFROM:+0000
TZOFFSETTO:+0000
TZNAME:UTC
DTSTART:20230101T000000
END:STANDARD
END:VTIMEZONE
BEGIN:VEVENT
DTSTART;TZID=UTC:20240511T200000
DTEND;TZID=UTC:20240511T220000
DTSTAMP:20260420T200829
CREATED:20240225T195757Z
LAST-MODIFIED:20240225T210310Z
UID:290-1715457600-1715464800@stadtmusik-engen.de
SUMMARY:Frühjahrskonzert
DESCRIPTION:
URL:https://stadtmusik-engen.de/veranstaltung/fruehjahrskonzert/
LOCATION:Stadthalle Engen\, Hohenstoffelstraße 3\, Engen\, Baden-Württemberg\, 78234
CATEGORIES:Jugendkapelle,Stadtkapelle
END:VEVENT
END:VCALENDAR