BEGIN:VCALENDAR
VERSION:2.0
PRODID:-//Stadtmusik Engen - ECPv6.15.18//NONSGML v1.0//EN
CALSCALE:GREGORIAN
METHOD:PUBLISH
X-ORIGINAL-URL:https://stadtmusik-engen.de
X-WR-CALDESC:Veranstaltungen für Stadtmusik Engen
REFRESH-INTERVAL;VALUE=DURATION:PT1H
X-Robots-Tag:noindex
X-PUBLISHED-TTL:PT1H
BEGIN:VTIMEZONE
TZID:Europe/Paris
BEGIN:DAYLIGHT
TZOFFSETFROM:+0100
TZOFFSETTO:+0200
TZNAME:CEST
DTSTART:20230326T010000
END:DAYLIGHT
BEGIN:STANDARD
TZOFFSETFROM:+0200
TZOFFSETTO:+0100
TZNAME:CET
DTSTART:20231029T010000
END:STANDARD
BEGIN:DAYLIGHT
TZOFFSETFROM:+0100
TZOFFSETTO:+0200
TZNAME:CEST
DTSTART:20240331T010000
END:DAYLIGHT
BEGIN:STANDARD
TZOFFSETFROM:+0200
TZOFFSETTO:+0100
TZNAME:CET
DTSTART:20241027T010000
END:STANDARD
BEGIN:DAYLIGHT
TZOFFSETFROM:+0100
TZOFFSETTO:+0200
TZNAME:CEST
DTSTART:20250330T010000
END:DAYLIGHT
BEGIN:STANDARD
TZOFFSETFROM:+0200
TZOFFSETTO:+0100
TZNAME:CET
DTSTART:20251026T010000
END:STANDARD
END:VTIMEZONE
BEGIN:VEVENT
DTSTART;TZID=Europe/Paris:20240421T170000
DTEND;TZID=Europe/Paris:20240421T190000
DTSTAMP:20260420T200855
CREATED:20240415T191852Z
LAST-MODIFIED:20240415T191916Z
UID:724-1713718800-1713726000@stadtmusik-engen.de
SUMMARY:VJBO trifft KVJBO
DESCRIPTION:Der Blasmusikverband Hegau-Bodensee präsentiert zu Beginn des Jahres 2024 einen musikalischen Leckerbissen in der Stadthalle Engen. \nDie Auswahljugendblasorchester der Verbände Hegau-Bodensee und Rottweil Tuttlingen werden gemeinsam ein Konzert gestalten.\nDas KVJBO Rottweil Tuttlingen besteht aus ca. 60 jungen Musikern und Musikerinnen und steht unter der Leitung von MD Rudolf Barth und\nwird den ersten Konzertteil bestreiten. Das Orchester hat erst vor Kurzem mit einem beeindruckenden Konzert in Trossingen seine Qualitäten\nunter Beweis gestellt und präsentierte symphonische Blasmusik vom Feinsten mit Werken von Bert Appermont\, Dirk Brossé und Johan de Meij. \nDas VJBO BHB wird zusammen mit seinem Dirigenten Kuno Rauch im zweiten Konzertteil die Highlights des letzten Herbstkonzertes „VJBO goes Pop“ zu Gehör bringen und das Publikum mit Musik von A. Dvorak\, Philipp Sparke\, Otto M. Schwarz und Michael Jackson verwöhnen. \n 
URL:https://stadtmusik-engen.de/veranstaltung/vjbo-trifft-kvjbo/
LOCATION:Stadthalle Engen\, Hohenstoffelstraße 3\, Engen\, Baden-Württemberg\, 78234
END:VEVENT
END:VCALENDAR